BEGIN:VCALENDAR
VERSION:2.0
PRODID:-//Eglise Evangélique de Burnhaupt - ECPv6.15.15//NONSGML v1.0//EN
CALSCALE:GREGORIAN
METHOD:PUBLISH
X-ORIGINAL-URL:https://www.ee-burnhaupt.fr
X-WR-CALDESC:Évènements pour Eglise Evangélique de Burnhaupt
REFRESH-INTERVAL;VALUE=DURATION:PT1H
X-Robots-Tag:noindex
X-PUBLISHED-TTL:PT1H
BEGIN:VTIMEZONE
TZID:Europe/Paris
BEGIN:DAYLIGHT
TZOFFSETFROM:+0100
TZOFFSETTO:+0200
TZNAME:CEST
DTSTART:20240331T010000
END:DAYLIGHT
BEGIN:STANDARD
TZOFFSETFROM:+0200
TZOFFSETTO:+0100
TZNAME:CET
DTSTART:20241027T010000
END:STANDARD
BEGIN:DAYLIGHT
TZOFFSETFROM:+0100
TZOFFSETTO:+0200
TZNAME:CEST
DTSTART:20250330T010000
END:DAYLIGHT
BEGIN:STANDARD
TZOFFSETFROM:+0200
TZOFFSETTO:+0100
TZNAME:CET
DTSTART:20251026T010000
END:STANDARD
BEGIN:DAYLIGHT
TZOFFSETFROM:+0100
TZOFFSETTO:+0200
TZNAME:CEST
DTSTART:20260329T010000
END:DAYLIGHT
BEGIN:STANDARD
TZOFFSETFROM:+0200
TZOFFSETTO:+0100
TZNAME:CET
DTSTART:20261025T010000
END:STANDARD
END:VTIMEZONE
BEGIN:VEVENT
DTSTART;TZID=Europe/Paris:20251217T140000
DTEND;TZID=Europe/Paris:20251217T160000
DTSTAMP:20260424T122140
CREATED:20251215T080500Z
LAST-MODIFIED:20251215T080500Z
UID:12173-1765980000-1765987200@www.ee-burnhaupt.fr
SUMMARY:Ensachage des Bredelas pour Noël du Cœur.
DESCRIPTION:
URL:https://www.ee-burnhaupt.fr/agenda/ensachage-des-bredelas-pour-noel-du-coeur/
LOCATION:Eglise Evangélique de Burnhaupt\, 2a rue de Cernay\, Burnhaupt-le-bas\, 68520\, France
CATEGORIES:coeurs de Noël
END:VEVENT
END:VCALENDAR